BEGIN:VCALENDAR
VERSION:2.0
PRODID:-//Closing The Health Gap - ECPv6.15.20//NONSGML v1.0//EN
CALSCALE:GREGORIAN
METHOD:PUBLISH
X-ORIGINAL-URL:https://closingthehealthgap.org
X-WR-CALDESC:Events for Closing The Health Gap
REFRESH-INTERVAL;VALUE=DURATION:PT1H
X-Robots-Tag:noindex
X-PUBLISHED-TTL:PT1H
BEGIN:VTIMEZONE
TZID:America/New_York
BEGIN:DAYLIGHT
TZOFFSETFROM:-0500
TZOFFSETTO:-0400
TZNAME:EDT
DTSTART:20250309T070000
END:DAYLIGHT
BEGIN:STANDARD
TZOFFSETFROM:-0400
TZOFFSETTO:-0500
TZNAME:EST
DTSTART:20251102T060000
END:STANDARD
BEGIN:DAYLIGHT
TZOFFSETFROM:-0500
TZOFFSETTO:-0400
TZNAME:EDT
DTSTART:20260308T070000
END:DAYLIGHT
BEGIN:STANDARD
TZOFFSETFROM:-0400
TZOFFSETTO:-0500
TZNAME:EST
DTSTART:20261101T060000
END:STANDARD
BEGIN:DAYLIGHT
TZOFFSETFROM:-0500
TZOFFSETTO:-0400
TZNAME:EDT
DTSTART:20270314T070000
END:DAYLIGHT
BEGIN:STANDARD
TZOFFSETFROM:-0400
TZOFFSETTO:-0500
TZNAME:EST
DTSTART:20271107T060000
END:STANDARD
END:VTIMEZONE
BEGIN:VEVENT
DTSTART;VALUE=DATE:20260228
DTEND;VALUE=DATE:20260301
DTSTAMP:20260420T064100
CREATED:20250909T163226Z
LAST-MODIFIED:20251110T192437Z
UID:425-1772236800-1772323199@closingthehealthgap.org
SUMMARY:2nd Annual Heart Failure Symposium
DESCRIPTION:SATURDAY – February 28\, 2026\nThe Savannah Center\n5533 Chappell Crossing Blvd\,\nWest Chester Township\, OH 45069 \nPROGRAM CO-DIRECTORS:\nRob Dowling\, MD\, PhD (hon)\nSurgical Director\, Cardiac Transplantation\nDirector\, Research in Mechanical Circulatory Support & Cardiac\nReplacement\nGregory Egnaczyk\, MD\nMedical Director of Advanced Heart Failure& LVAD Program \nFOR QUESTIONS CONTACT:\nDarlene Rock\, MBA\, BSN\, RN\nDirector of Research Education & Training\n513-585-1766\nDarlene.Rock@TheChristHospital.com
URL:https://closingthehealthgap.org/event/heart-failure-symposium/
LOCATION:The Savannah Center\, 5533 Chappell Crossing Blvd.\, West Chester\, OH\, 45069\, United States
CATEGORIES:Community Event
ATTACH;FMTTYPE=image/jpeg:https://closingthehealthgap.org/wp-content/uploads/2025/09/2nd-Annual-Heart-Failure-Symposium_2-28-26.jpg
END:VEVENT
END:VCALENDAR